BEGIN:VCALENDAR
VERSION:2.0
PRODID:-//162.43.101.195//NONSGML kigkonsult.se iCalcreator 2.20//
CALSCALE:GREGORIAN
METHOD:PUBLISH
X-FROM-URL:https://www.aoshiru.co.jp
X-WR-TIMEZONE:Asia/Tokyo
BEGIN:VTIMEZONE
TZID:Asia/Tokyo
X-LIC-LOCATION:Asia/Tokyo
BEGIN:STANDARD
DTSTART:19510909T010000
TZOFFSETFROM:+1000
TZOFFSETTO:+0900
TZNAME:JST
END:STANDARD
END:VTIMEZONE
BEGIN:VEVENT
UID:ai1ec-2602@www.aoshiru.co.jp
DTSTAMP:20260425T195550Z
CATEGORIES;LANGUAGE=ja:貸し会議室案内
CONTACT:梶山　洋子先生\; 090-3988-7348
DESCRIPTION:<p>遊氣庵（ゆうきあん）が</p>\n<p>7/1（火）～あたらしくお教室が増えます！</p>\n<p>古川のはなみずき通り
 にある遠藤青汁建物2Fで開催☆☆☆</p>\n<p>年齢関係なく、体の不調を氣で整えることをしております。</p>\n<p>基本的にマンツーマンとな
 っております。</p>\n<p> </p>\n<p>お問い合わせやご連絡は090-3988-7348</p>\n<p>梶山先生の携帯電話に宜しくお願
 いいたします。</p>\n<p> </p>\n<p> </p>\n<p> </p>
DTSTART;TZID=Asia/Tokyo:20260425T090000
DTEND;TZID=Asia/Tokyo:20260425T110000
LOCATION:有限会社遠藤青汁（endou元気BAR2F健康スタジオ） @ 愛媛県松山市古川北4-9-25
RRULE:FREQ=WEEKLY;BYDAY=SA;WKST=MO
SEQUENCE:0
SUMMARY:遊氣庵
END:VEVENT
BEGIN:VEVENT
UID:ai1ec-2583@www.aoshiru.co.jp
DTSTAMP:20260425T195550Z
CATEGORIES;LANGUAGE=ja:教室案内
CONTACT:川又　由美乃先生\; ０９０－８２８３－９４２８
DESCRIPTION:<p>Hula Hui O Makalapua　土曜日</p>\n<p>代表　　川又　由美乃先生　０９０－８２８３－９４２８<
 /p>\n<p><u>費　用　　入会費：　　　　　お月謝：5\,000円　</u></p>\n<p>詳細、持ってくる物など詳細につきましては、先生迄
 お問い合わせください。</p>
DTSTART;TZID=Asia/Tokyo:20260425T100000
DTEND;TZID=Asia/Tokyo:20260425T120000
RRULE:FREQ=WEEKLY;BYDAY=SA;WKST=MO
SEQUENCE:0
SUMMARY:フラダンス　Hula Hui O Makalapua
END:VEVENT
BEGIN:VEVENT
UID:ai1ec-2556@www.aoshiru.co.jp
DTSTAMP:20260425T195550Z
CATEGORIES;LANGUAGE=ja:教室案内
CONTACT:立花　京子先生\; 090-5719-2782\; kluvi327@gmail.com
DESCRIPTION:<p>‐K’s‐Ballet      （ケイズバレエ）</p>\n<p>4/5（土）～あたらしくお教室が増えます！</p>
 \n<p> </p>\n<p>古川のはなみずき通りにある遠藤青汁建物2Fで開催☆☆☆</p>\n<p>お子様向け教室</p>\n<p>入会金11\,
 000円　※2025年4月までInstagram等のチラシご持参で期間限定で入会金無料！</p>\n<p>お月謝　古川教室　6\,600円　（月３回
 ）振替可能！</p>\n<p> </p>\n<p>体験会日↓こちらをチェック↓</p>\n<p>KIDS（３歳～就学前のお子様）</p>\n<p>4
 /5（土）、4/19（土）、4/26（土）13：00～13：45</p>\n<p> </p>\n<p>初級（小学1～３年生）</p>\n<p>4/5
 （土）、4/19（土）、4/26（土）14：00～14：45</p>\n<p> </p>\n<p> </p>\n<p> </p>
DTSTART;TZID=Asia/Tokyo:20260425T130000
DTEND;TZID=Asia/Tokyo:20260425T150000
GEO:+34.448995;+129.01675
LOCATION:有限会社遠藤青汁（endou元気BAR2F健康スタジオ） @ 愛媛県松山市古川北4-9-25
RRULE:FREQ=WEEKLY;BYDAY=SA;WKST=MO
SEQUENCE:0
SUMMARY:K’sバレエ　
END:VEVENT
BEGIN:VEVENT
UID:ai1ec-2342@aoshiru.xsrv.jp
DTSTAMP:20260425T195550Z
CATEGORIES;LANGUAGE=ja:教室案内
CONTACT:二神　ニルソン　ビョーン先生　\; 090-2823-0765
DESCRIPTION:<p>HIRAI英会話教室</p>\n<p>ネイティブの先生が数名おり、生の英語を教えてくれる英会話です。</p>\n<p>各
 情報は、先生に確認するか、Instagramなどでお問い合わせください。</p>
DTSTART;TZID=Asia/Tokyo:20260425T154500
DTEND;TZID=Asia/Tokyo:20260425T174500
RRULE:FREQ=WEEKLY;BYDAY=SA;WKST=MO
SEQUENCE:0
SUMMARY:HIRAI英会話教室
END:VEVENT
BEGIN:VEVENT
UID:ai1ec-2663@www.aoshiru.co.jp
DTSTAMP:20260425T195550Z
CATEGORIES;LANGUAGE=ja:教室案内
CONTACT:北條　宏彦先生\; 090-8698-3555
DESCRIPTION:<p>正道会館　北條　宏彦先生　　０９０－８６９８－３５５５</p>\n<p><u>費　用　　入会費　6\,000円　　お月謝
 ：5\,500円（高校生以上）　5\,000円（小中学生）週１回</u></p>\n<p>空手を習ってみたい！という、小さなお子様でも可能です。</
 p>\n<p> </p>\n<p> </p>\n<p> </p>\n<p> </p>
DTSTART;TZID=Asia/Tokyo:20260425T183000
DTEND;TZID=Asia/Tokyo:20260425T210000
GEO:+34.448995;+129.01675
LOCATION:有限会社遠藤青汁（endou元気BAR2F健康スタジオ） @ 愛媛県松山市古川北4-9-25
RRULE:FREQ=WEEKLY;BYDAY=TU,SA;WKST=MO
SEQUENCE:0
SUMMARY:正道会館　（空手）
END:VEVENT
BEGIN:VEVENT
UID:ai1ec-2593@www.aoshiru.co.jp
DTSTAMP:20260425T195550Z
CATEGORIES;LANGUAGE=ja:教室案内
CONTACT:美容道　BLUSH
DESCRIPTION:<p>ピラティスを行います。</p>\n<p>BLUSH　美容道</p>\n<p>開催日以下記載</p>\n<p> </p>
 \n<p>2026/3/22　13～15時</p>\n<p>2026/4/26    13～15時</p>
DTSTART;TZID=Asia/Tokyo:20260426T130000
DTEND;TZID=Asia/Tokyo:20260426T150000
RDATE;TZID=Asia/Tokyo:20260222T130000
RDATE;TZID=Asia/Tokyo:20260322T130000
RDATE;TZID=Asia/Tokyo:20260426T130000
SEQUENCE:0
SUMMARY:BLUSH　松山店　ピラティス
END:VEVENT
BEGIN:VEVENT
UID:ai1ec-2319@aoshiru.xsrv.jp
DTSTAMP:20260425T195550Z
CATEGORIES;LANGUAGE=ja:教室案内
CONTACT:
DESCRIPTION:<p>Liko Lehua   　　　　　　　　月曜日教室</p>\n<p>代表　　あみの　くにこ先生</p>\n<p>０９０
 －１１７７－６７３２</p>\n<p><u>費　用　　入会費　　　　　　　　お月謝：5\,000円</u></p>
DTSTART;TZID=Asia/Tokyo:20260427T190000
DTEND;TZID=Asia/Tokyo:20260427T210000
RRULE:FREQ=WEEKLY;BYDAY=MO;WKST=MO
SEQUENCE:0
SUMMARY:フラダンス　（Liko Lehua)
END:VEVENT
BEGIN:VEVENT
UID:ai1ec-2613@www.aoshiru.co.jp
DTSTAMP:20260425T195550Z
CATEGORIES;LANGUAGE=ja:貸し会議室案内
CONTACT:梶山　洋子先生\; 090-3988-7348
DESCRIPTION:<p>遊氣庵（ゆうきあん）が</p>\n<p>7/1（火）～あたらしくお教室が増えます！</p>\n<p>古川のはなみずき通り
 にある遠藤青汁建物2Fで開催☆☆☆</p>\n<p>年齢関係なく、体の不調を氣で整えることをしております。</p>\n<p>基本的にマンツーマンとな
 っております。</p>\n<p> </p>\n<p>お問い合わせやご連絡は090-3988-7348</p>\n<p>梶山先生の携帯電話に宜しくお願
 いいたします。</p>\n<p> </p>\n<p> </p>\n<p> </p>
DTSTART;TZID=Asia/Tokyo:20260427T190000
DTEND;TZID=Asia/Tokyo:20260427T210000
LOCATION:有限会社遠藤青汁（endou元気BAR2F健康スタジオ） @ 愛媛県松山市古川北4-9-25
RRULE:FREQ=WEEKLY;BYDAY=MO;WKST=MO
SEQUENCE:0
SUMMARY:遊氣庵
END:VEVENT
BEGIN:VEVENT
UID:ai1ec-2572@www.aoshiru.co.jp
DTSTAMP:20260425T195550Z
CATEGORIES;LANGUAGE=ja:貸し会議室案内
CONTACT:梶山　洋子先生\; 090-3988-7348
DESCRIPTION:<p>遊氣庵（ゆうきあん）が</p>\n<p> </p>\n<p>古川のはなみずき通りにある遠藤青汁建物2Fで開催☆☆☆</p
 >\n<p>年齢関係なく、体の不調を氣で整えることをしております。</p>\n<p>基本的にマンツーマンとなっております。</p>\n<p> </p
 >\n<p>お問い合わせやご連絡は090-3988-7348</p>\n<p>梶山先生の携帯電話に宜しくお願いいたします。</p>\n<p> </p
 >\n<p> </p>\n<p> </p>
DTSTART;TZID=Asia/Tokyo:20260428T100000
DTEND;TZID=Asia/Tokyo:20260428T120000
GEO:+34.448995;+129.01675
LOCATION:有限会社遠藤青汁（endou元気BAR2F健康スタジオ） @ 愛媛県松山市古川北4-9-25
RRULE:FREQ=WEEKLY;BYDAY=TU;WKST=MO
SEQUENCE:0
SUMMARY:遊氣庵
END:VEVENT
BEGIN:VEVENT
UID:ai1ec-2581@www.aoshiru.co.jp
DTSTAMP:20260425T195550Z
CATEGORIES;LANGUAGE=ja:教室案内
CONTACT:立花　よしこ先生\; 090-8694-5436
DESCRIPTION:<p>リトミック　toi toi</p>\n<p>楽しい音楽と運動や遊び、リズミカルに。</p>\n<p>心と体をはぐくむ。<
 /p>\n<p>小さなお子様がいらっしゃる親子向け教室。</p>\n<p> </p>\n<p>講師：立花　よしこ先生　　090-8694-5436<
 /p>\n<p><u>費　用　　入会費　3300</u><u>　円  　お月謝：4400</u><u>円</u></p>\n<p>他教室でもレッスン
 されています。</p>\n<p>詳しくは、先生迄お問い合わせください。</p>
DTSTART;TZID=Asia/Tokyo:20260429T100000
DTEND;TZID=Asia/Tokyo:20260429T120000
RRULE:FREQ=WEEKLY;BYDAY=WE;WKST=MO
SEQUENCE:0
SUMMARY:リトミック　toi toi
END:VEVENT
BEGIN:VEVENT
UID:ai1ec-2616@www.aoshiru.co.jp
DTSTAMP:20260425T195550Z
CATEGORIES;LANGUAGE=ja:貸し会議室案内
CONTACT:
DESCRIPTION:<p>遊氣庵（ゆうきあん）が</p>\n<p> </p>\n<p>古川のはなみずき通りにある遠藤青汁建物2Fで開催☆☆☆</p
 >\n<p>年齢関係なく、体の不調を氣で整えることをしております。</p>\n<p>基本的にマンツーマンとなっております。</p>\n<p> </p
 >\n<p>お問い合わせやご連絡は090-3988-7348</p>\n<p>梶山先生の携帯電話に宜しくお願いいたします。</p>\n<p> </p
 >
DTSTART;TZID=Asia/Tokyo:20260429T100000
DTEND;TZID=Asia/Tokyo:20260429T120000
RRULE:FREQ=WEEKLY;BYDAY=WE;WKST=MO
SEQUENCE:0
SUMMARY:遊氣庵
END:VEVENT
BEGIN:VEVENT
UID:ai1ec-2330@aoshiru.xsrv.jp
DTSTAMP:20260425T195550Z
CATEGORIES;LANGUAGE=ja:貸し会議室案内
CONTACT:井上　明子先生\; 090-7388-4388
DESCRIPTION:<p>お子様～大人までOK。</p>\n<p>絵画指導を基本としますが、</p>\n<p>夏休みなどは、ポスター制作指導なども
 行っております。</p>\n<p> </p>\n<p>Instagram　＠akiko_kaiga</p>\n<p>お値段等のお問い合わせは、先生迄
 宜しくお願いいたします。</p>\n<p> </p>
DTSTART;TZID=Asia/Tokyo:20260429T163000
DTEND;TZID=Asia/Tokyo:20260429T183000
RRULE:FREQ=WEEKLY;BYDAY=WE;WKST=MO
SEQUENCE:0
SUMMARY:あきこ絵画教室　
END:VEVENT
BEGIN:VEVENT
UID:ai1ec-2615@www.aoshiru.co.jp
DTSTAMP:20260425T195550Z
CATEGORIES;LANGUAGE=ja:教室案内
CONTACT:
DESCRIPTION:<p>＜ようが＞</p>\n<p>年齢問わず、初心者の方でも体の硬い方でも</p>\n<p>どなたでも始めやすいヨガになってお
 ります。</p>\n<p>小さいお子様ご一緒でもOK</p>\n<p>ますは、５００円の体験で効果を実感してみませんか？</p>\n<p> </p>
 \n<p>1回1300円</p>\n<p>月謝制ではありません。</p>\n<p>日野先生</p>\n<p>090-5716-4713</p>\n<
 p> </p>\n<p>準備物や体験については、先生に確認してからご来場ください。</p>\n<p>古川教室以外にもエミフルなどでも行っています。<
 /p>
DTSTART;TZID=Asia/Tokyo:20260429T193000
DTEND;TZID=Asia/Tokyo:20260429T213000
RRULE:FREQ=WEEKLY;BYDAY=WE;WKST=MO
SEQUENCE:0
SUMMARY:Soleil yoga
END:VEVENT
BEGIN:VEVENT
UID:ai1ec-2660@www.aoshiru.co.jp
DTSTAMP:20260425T195550Z
CATEGORIES;LANGUAGE=ja:貸し会議室案内
CONTACT:
DESCRIPTION:<p>＜遊ようが＞</p>\n<p>10年後に差のでるYOGAにしましょう！</p>\n<p>年齢問わず、初心者の方でも体の硬
 い方でも</p>\n<p>どなたでも始めやすいヨガになっております。</p>\n<p>小さいお子様ご一緒でもOK</p>\n<p>ますは、無料体験で
 効果を実感してみませんか？</p>\n<p> </p>\n<p>月4000円　　1回1600円</p>\n<p>高橋　里美先生</p>\n<p>09
 0-5142-8981</p>\n<p> </p>\n<p>準備物や体験については、先生に確認してからご来場ください。</p>\n<p>古川教室以外
 にもエミフルなどでも行っています。</p>
DTSTART;TZID=Asia/Tokyo:20260430T100000
DTEND;TZID=Asia/Tokyo:20260430T120000
RRULE:FREQ=WEEKLY;BYDAY=TH;WKST=MO
SEQUENCE:0
SUMMARY:COCO YOGA
END:VEVENT
BEGIN:VEVENT
UID:ai1ec-2668@www.aoshiru.co.jp
DTSTAMP:20260425T195550Z
CATEGORIES;LANGUAGE=ja:貸し会議室案内
CONTACT:武田　治基\; 090-4508-2022\; sadosado582@hotmail.co.jp
DESCRIPTION:<p>愛媛コカリナサークル木音</p>\n<p>初心者コース</p>\n<p>日本コカリナ協会公認講師　平松　夕佳先生<br 
 />\n連絡先：武田　治基様<br />\n０９０－４５０８－２０２２<br />\nsadosado582@hotmail.co.jp</p>\n
 <blockquote class='wp-embedded-content' data-secret='V6IjLjzROV'><p><a hre
 f='https://kocarinaehime.wordpress.com/kanon/'>サークルについて</a></p></blockquot
 e>\n<p><iframe class='wp-embedded-content' sandbox='allow-scripts' securit
 y='restricted' style='position: absolute\; clip: rect(1px\, 1px\, 1px\, 1p
 x)\;' title='“サークルについて” — 愛媛でコカリナを吹こう♪' src='https://kocarinaehime.wordpre
 ss.com/kanon/embed/#?secret=P984VNUqXc#?secret=V6IjLjzROV' data-secret='V6
 IjLjzROV' width='500' height='282' frameborder='0' marginwidth='0' marginh
 eight='0' scrolling='no'></iframe></p>
DTSTART;TZID=Asia/Tokyo:20260430T130000
DTEND;TZID=Asia/Tokyo:20260430T140000
RDATE;TZID=Asia/Tokyo:20260402T130000
RDATE;TZID=Asia/Tokyo:20260416T130000
RDATE;TZID=Asia/Tokyo:20260430T130000
RDATE;TZID=Asia/Tokyo:20260528T130000
SEQUENCE:0
SUMMARY:愛媛コカリナサークル木音 初心者コース
END:VEVENT
BEGIN:VEVENT
UID:ai1ec-2590@www.aoshiru.co.jp
DTSTAMP:20260425T195550Z
CATEGORIES;LANGUAGE=ja:教室案内
CONTACT:武田　治基\; 090-4508-2022\; sadosado582@hotmail.co.jp
DESCRIPTION:<p>愛媛コカリナサークル木音<br />\n日本コカリナ協会公認講師　平松　夕佳先生<br />\n連絡先：武田　治基様<b
 r />\n０９０－４５０８－２０２２<br />\nsadosado582@hotmail.co.jp</p>\n<blockquote clas
 s='wp-embedded-content' data-secret='V6IjLjzROV'><p><a href='https://kocar
 inaehime.wordpress.com/kanon/'>サークルについて</a></p></blockquote>\n<p><iframe c
 lass='wp-embedded-content' sandbox='allow-scripts' security='restricted' s
 tyle='position: absolute\; clip: rect(1px\, 1px\, 1px\, 1px)\;' title='“サー
 クルについて” — 愛媛でコカリナを吹こう♪' src='https://kocarinaehime.wordpress.com/kanon/emb
 ed/#?secret=P984VNUqXc#?secret=V6IjLjzROV' data-secret='V6IjLjzROV' width=
 '500' height='282' frameborder='0' marginwidth='0' marginheight='0' scroll
 ing='no'></iframe></p>
DTSTART;TZID=Asia/Tokyo:20260430T140000
DTEND;TZID=Asia/Tokyo:20260430T160000
RRULE:FREQ=WEEKLY;BYDAY=TH;WKST=MO
SEQUENCE:0
SUMMARY:愛媛コカリナサークル木音
END:VEVENT
BEGIN:VEVENT
UID:ai1ec-2600@www.aoshiru.co.jp
DTSTAMP:20260425T195550Z
CATEGORIES;LANGUAGE=ja:貸し会議室案内
CONTACT:武田　治基\; 090-4508-2022\; sadosado582@hotmail.co.jp
DESCRIPTION:<p>愛媛コカリナサークル木音<br />\n日本コカリナ協会公認講師　平松　夕佳先生<br />\n連絡先：武田　治基様<b
 r />\n０９０－４５０８－２０２２<br />\nsadosado582@hotmail.co.jp</p>\n<blockquote clas
 s='wp-embedded-content' data-secret='V6IjLjzROV'><p><a href='https://kocar
 inaehime.wordpress.com/kanon/'>サークルについて</a></p></blockquote>\n<p><iframe c
 lass='wp-embedded-content' sandbox='allow-scripts' security='restricted' s
 tyle='position: absolute\; clip: rect(1px\, 1px\, 1px\, 1px)\;' title='“サー
 クルについて” — 愛媛でコカリナを吹こう♪' src='https://kocarinaehime.wordpress.com/kanon/emb
 ed/#?secret=P984VNUqXc#?secret=V6IjLjzROV' data-secret='V6IjLjzROV' width=
 '500' height='282' frameborder='0' marginwidth='0' marginheight='0' scroll
 ing='no'></iframe></p>
DTSTART;TZID=Asia/Tokyo:20260430T140000
DTEND;TZID=Asia/Tokyo:20260430T160000
RRULE:FREQ=WEEKLY;BYDAY=TH;WKST=MO
SEQUENCE:0
SUMMARY:愛媛コカリナサークル木音 椅子使用
END:VEVENT
BEGIN:VEVENT
UID:ai1ec-2036@aoshiru.xsrv.jp
DTSTAMP:20260425T195550Z
CATEGORIES;LANGUAGE=ja:教室案内
CONTACT:代表　あみの　くにこ先生\; 090-1177-6732
DESCRIPTION:<p>Liko Lehua   　　　　　　　木曜日教室</p>\n<p>代表　　あみの　くにこ先生</p>\n<p>０９０－
 １１７７－６７３２</p>\n<p><u>費　用　　入会費　　　　　　　　お月謝：5\,000円</u></p>
DTSTART;TZID=Asia/Tokyo:20260430T190000
DTEND;TZID=Asia/Tokyo:20260430T210000
EXDATE;TZID=Asia/Tokyo:20251225T190000
RRULE:FREQ=WEEKLY;BYDAY=TH;WKST=MO
SEQUENCE:0
SUMMARY:フラダンス（Liko Lehua）
END:VEVENT
BEGIN:VEVENT
UID:ai1ec-2591@www.aoshiru.co.jp
DTSTAMP:20260425T195550Z
CATEGORIES;LANGUAGE=ja:教室案内
CONTACT:中川　佐和子先生\; 080-1996-5047
DESCRIPTION:<p> </p>\n<p>心和ヨーガ　主催</p>\n<p>中川　佐和子先生　０８０－１９９６－５０４７</p>\n<p><u
 >費　用　　お月謝：6\,000円、１回：2\,000円、1000円</u></p>\n<p> </p>\n<p>ヨガで心も体も健やかに。</p>
 \n<p> </p>\n<p>他教室でもレッスンされています。</p>\n<p>出張ヨガなども可能。</p>\n<p>詳細、持ってくる物など詳細につ
 きましては、先生迄お問い合わせください。</p>\n<p>フットマッサージなどの講師育成も行っています。</p>\n<p> </p>\n<p> </
 p>\n<p> </p>
DTSTART;TZID=Asia/Tokyo:20260501T100000
DTEND;TZID=Asia/Tokyo:20260501T120000
GEO:+34.448995;+129.01675
LOCATION:有限会社遠藤青汁（endou元気BAR2F健康スタジオ） @ 愛媛県松山市古川北4-9-25
RRULE:FREQ=WEEKLY;BYDAY=FR;WKST=MO
SEQUENCE:0
SUMMARY:心和ヨーガ　
END:VEVENT
BEGIN:VEVENT
UID:ai1ec-2302@aoshiru.xsrv.jp
DTSTAMP:20260425T195550Z
CATEGORIES;LANGUAGE=ja:教室案内
CONTACT:
DESCRIPTION:<p>愛媛コカリナサークル　木音</p>\n<p>この時間帯は、会議室のイスを利用しているため、会議室　使用不可です。</p>
 \n<p> </p>
DTSTART;TZID=Asia/Tokyo:20260507T130000
DTEND;TZID=Asia/Tokyo:20260507T140000
SEQUENCE:0
SUMMARY:愛媛コカリナサークル　木音
END:VEVENT
BEGIN:VEVENT
UID:ai1ec-2666@www.aoshiru.co.jp
DTSTAMP:20260425T195550Z
CATEGORIES;LANGUAGE=ja:教室案内
CONTACT:
DESCRIPTION:<p>愛媛コカリナサークル木音<br />\n日本コカリナ協会公認講師　平松　夕佳先生<br />\n連絡先：武田　治基様<b
 r />\n０９０－４５０８－２０２２<br />\nsadosado582@hotmail.co.jp</p>\n<blockquote clas
 s='wp-embedded-content' data-secret='V6IjLjzROV'><p><a href='https://kocar
 inaehime.wordpress.com/kanon/'>サークルについて</a></p></blockquote>\n<p><iframe c
 lass='wp-embedded-content' sandbox='allow-scripts' security='restricted' s
 tyle='position: absolute\; clip: rect(1px\, 1px\, 1px\, 1px)\;' title='“サー
 クルについて” — 愛媛でコカリナを吹こう♪' src='https://kocarinaehime.wordpress.com/kanon/emb
 ed/#?secret=P984VNUqXc#?secret=V6IjLjzROV' data-secret='V6IjLjzROV' width=
 '500' height='282' frameborder='0' marginwidth='0' marginheight='0' scroll
 ing='no'></iframe></p>
DTSTART;TZID=Asia/Tokyo:20260521T100000
DTEND;TZID=Asia/Tokyo:20260521T120000
RDATE;TZID=Asia/Tokyo:20260423T100000
RDATE;TZID=Asia/Tokyo:20260521T100000
SEQUENCE:0
SUMMARY:コカリナサークルKanon 単発
END:VEVENT
BEGIN:VEVENT
UID:ai1ec-2587@www.aoshiru.co.jp
DTSTAMP:20260425T195550Z
CATEGORIES;LANGUAGE=ja:貸し会議室案内
CONTACT:井上　明子先生\; 090-7388-4388
DESCRIPTION:<p>お子様～大人までOK。</p>\n<p>絵画指導を基本としますが、</p>\n<p>夏休みなどは、ポスター制作指導なども
 行っております。</p>\n<p> </p>\n<p>Instagram　＠akiko_kaiga</p>\n<p>お値段等のお問い合わせは、先生迄
 宜しくお願いいたします。</p>\n<p> </p>
DTSTART;TZID=Asia/Tokyo:20260722T183000
DTEND;TZID=Asia/Tokyo:20260722T193000
EXDATE;TZID=Asia/Tokyo:20250903T183000
EXDATE;TZID=Asia/Tokyo:20250910T183000
EXDATE;TZID=Asia/Tokyo:20250917T183000
EXDATE;TZID=Asia/Tokyo:20250924T183000
EXDATE;TZID=Asia/Tokyo:20251001T183000
EXDATE;TZID=Asia/Tokyo:20251008T183000
EXDATE;TZID=Asia/Tokyo:20251015T183000
EXDATE;TZID=Asia/Tokyo:20251022T183000
EXDATE;TZID=Asia/Tokyo:20251029T183000
EXDATE;TZID=Asia/Tokyo:20251105T183000
EXDATE;TZID=Asia/Tokyo:20251112T183000
EXDATE;TZID=Asia/Tokyo:20251119T183000
EXDATE;TZID=Asia/Tokyo:20251126T183000
EXDATE;TZID=Asia/Tokyo:20251203T183000
EXDATE;TZID=Asia/Tokyo:20251210T183000
EXDATE;TZID=Asia/Tokyo:20251217T183000
EXDATE;TZID=Asia/Tokyo:20251224T183000
EXDATE;TZID=Asia/Tokyo:20251231T183000
EXDATE;TZID=Asia/Tokyo:20260107T183000
EXDATE;TZID=Asia/Tokyo:20260114T183000
EXDATE;TZID=Asia/Tokyo:20260121T183000
EXDATE;TZID=Asia/Tokyo:20260128T183000
EXDATE;TZID=Asia/Tokyo:20260204T183000
EXDATE;TZID=Asia/Tokyo:20260211T183000
EXDATE;TZID=Asia/Tokyo:20260218T183000
EXDATE;TZID=Asia/Tokyo:20260225T183000
EXDATE;TZID=Asia/Tokyo:20260304T183000
EXDATE;TZID=Asia/Tokyo:20260311T183000
EXDATE;TZID=Asia/Tokyo:20260318T183000
EXDATE;TZID=Asia/Tokyo:20260325T183000
EXDATE;TZID=Asia/Tokyo:20260401T183000
EXDATE;TZID=Asia/Tokyo:20260408T183000
EXDATE;TZID=Asia/Tokyo:20260415T183000
EXDATE;TZID=Asia/Tokyo:20260422T183000
EXDATE;TZID=Asia/Tokyo:20260429T183000
EXDATE;TZID=Asia/Tokyo:20260506T183000
EXDATE;TZID=Asia/Tokyo:20260513T183000
EXDATE;TZID=Asia/Tokyo:20260520T183000
EXDATE;TZID=Asia/Tokyo:20260527T183000
EXDATE;TZID=Asia/Tokyo:20260603T183000
EXDATE;TZID=Asia/Tokyo:20260610T183000
EXDATE;TZID=Asia/Tokyo:20260617T183000
EXDATE;TZID=Asia/Tokyo:20260624T183000
EXDATE;TZID=Asia/Tokyo:20260701T183000
EXDATE;TZID=Asia/Tokyo:20260708T183000
EXDATE;TZID=Asia/Tokyo:20260715T183000
RRULE:FREQ=WEEKLY;UNTIL=20260831T235959Z;BYDAY=WE;WKST=MO
SEQUENCE:0
SUMMARY:あきこ絵画教室　8月特別延長
END:VEVENT
END:VCALENDAR
